BEGIN:VCALENDAR
VERSION:2.0
PRODID:-//Healing To The Nations//NONSGML kigkonsult.se iCalcreator 2.30.10
 //
CALSCALE:GREGORIAN
METHOD:PUBLISH
UID:e53128ce-d34e-4394-80c9-6b206510d608
X-WR-CALNAME:iCagenda
X-WR-CALDESC:Event Management Extension for Joomla!
X-WR-RELCALID:3E26604A-50F4-4449-8B3E-E4F4932D05B5
X-WR-TIMEZONE:Australia/Adelaide
BEGIN:VTIMEZONE
TZID:Australia/Adelaide
BEGIN:STANDARD
TZNAME:ACST
DTSTART:20230402T030000
TZOFFSETFROM:+1030
TZOFFSETTO:+0930
RDATE:20240407T030000
RDATE:20250406T030000
END:STANDARD
BEGIN:DAYLIGHT
TZNAME:ACDT
DTSTART:20231001T020000
TZOFFSETFROM:+0930
TZOFFSETTO:+1030
RDATE:20241006T020000
END:DAYLIGHT
END:VTIMEZONE
BEGIN:VEVENT
UID:9d454b73-bc86-4897-a3d4-2006a7baddb6
DTSTAMP:20260421T100643Z
CATEGORIES:Shabbat Gathering
CLASS:PUBLIC
DESCRIPTION;ALTREP="CID:<FFFF__=0ABBE548DFE235B58f9e8a93d@coffeebean.com>":
 All are welcome to join us for our prayer meeting at 11:00am Saturday. The
  Shabbat meeting begins at 3:00pm with worship and sharing the Word. Dinne
 r is shared together after the gathering. For any who can make it we have 
 a working bee on Sunday\, spending time enjoying our farm\, Hebron\, and e
 ach other's company as a community.
DTSTART:20240106T043000Z
DTEND:20240106T043000Z
GEO:00;0
LOCATION:Hebron - 986 Angas Valley Rd\, Mt Pleasant SA 5235
ORGANIZER;CN=:contact@httn.net
SEQUENCE:1
SUMMARY:Shabbat (Mt Pleasant)
TRANSP:OPAQUE
URL:https://httn.net/meeting-feast-dates/20-shabbat-meeting-3/2024-01-06-15
 -00
END:VEVENT
END:VCALENDAR
