BEGIN:VCALENDAR
VERSION:2.0
PRODID:-//Healing To The Nations//NONSGML kigkonsult.se iCalcreator 2.30.10
 //
CALSCALE:GREGORIAN
METHOD:PUBLISH
UID:468cf7c3-5cc0-433d-b819-f87fcab7c272
X-WR-CALNAME:iCagenda
X-WR-CALDESC:Event Management Extension for Joomla!
X-WR-RELCALID:3E26604A-50F4-4449-8B3E-E4F4932D05B5
X-WR-TIMEZONE:Australia/Adelaide
BEGIN:VTIMEZONE
TZID:Australia/Adelaide
BEGIN:STANDARD
TZNAME:ACST
DTSTART:20250406T030000
TZOFFSETFROM:+1030
TZOFFSETTO:+0930
RDATE:20260405T030000
RDATE:20270404T030000
END:STANDARD
BEGIN:DAYLIGHT
TZNAME:ACDT
DTSTART:20241006T020000
TZOFFSETFROM:+0930
TZOFFSETTO:+1030
RDATE:20251005T020000
RDATE:20261004T020000
END:DAYLIGHT
END:VTIMEZONE
BEGIN:VEVENT
UID:3d71bc30-f2fc-43b7-808c-3872e900ed47
DTSTAMP:20260420T172513Z
CATEGORIES:Festival
CLASS:PUBLIC
DESCRIPTION;ALTREP="CID:<FFFF__=0ABBE548DFE235B58f9e8a93d@coffeebean.com>":
 Yom Kippur\, or the Day of Atonement. A High Shabbat\, and called the most
  holy day on the Jewish calendar. We will begin fasting the night before\,
  and gather together at Shekem for a meeting and fellowship. We will break
  our fast together at dinner after the meeting.\n \n'...the tenth day of t
 his seventh month is Yom Kippur\, a holy convocation to you\, so you are t
 o afflict yourselves... You are not to do any kind of work on that set day
 \, for it is Yom Kippur\, to make atonement for you before YHVH your Elohi
 m. For anyone who does not deny himself on that day must be cut off from h
 is people. Anyone who does any kind of work on that day\, that person I wi
 ll destroy from among his people. You should do no kind of work. It is a s
 tatute forever throughout your generations in all your dwellings.  It is t
 o be a Shabbat of solemn rest for you\, and you are to humble your souls. 
 On the ninth day of the month in the evening—from evening until evening—yo
 u are to keep your Shabbat.” \nLeviticus 23:27-32\n \n 
DTSTART:20251002T013000Z
DTEND:20251002T013000Z
GEO:00;0
LOCATION:Shekem - 461 Callington Road\, Salem
ORGANIZER:
SEQUENCE:1
SUMMARY:Yom Kippur (Salem)
TRANSP:OPAQUE
URL:https://httn.net/meeting-feast-dates/33-yom-kippur-3/2025-10-02-11-00
END:VEVENT
END:VCALENDAR
