BEGIN:VCALENDAR
VERSION:2.0
PRODID:-//Healing To The Nations//NONSGML kigkonsult.se iCalcreator 2.30.10
 //
CALSCALE:GREGORIAN
METHOD:PUBLISH
UID:52c3942e-6f32-426b-ac40-c0cf7ee75e3a
X-WR-CALNAME:iCagenda
X-WR-CALDESC:Event Management Extension for Joomla!
X-WR-RELCALID:3E26604A-50F4-4449-8B3E-E4F4932D05B5
X-WR-TIMEZONE:Australia/Adelaide
BEGIN:VTIMEZONE
TZID:Australia/Adelaide
BEGIN:STANDARD
TZNAME:ACST
DTSTART:20230402T030000
TZOFFSETFROM:+1030
TZOFFSETTO:+0930
RDATE:20240407T030000
RDATE:20250406T030000
END:STANDARD
BEGIN:DAYLIGHT
TZNAME:ACDT
DTSTART:20231001T020000
TZOFFSETFROM:+0930
TZOFFSETTO:+1030
RDATE:20241006T020000
END:DAYLIGHT
END:VTIMEZONE
BEGIN:VEVENT
UID:47f9c4e3-2971-4d7f-9156-b4cc9dbd2cb9
DTSTAMP:20260425T102152Z
CATEGORIES:Shabbat Gathering
CLASS:PUBLIC
DESCRIPTION;ALTREP="CID:<FFFF__=0ABBE548DFE235B58f9e8a93d@coffeebean.com>":
 We begin with a time of prayer at 2:00pm. The meeting begins at 3:00pm wit
 h worship\, sharing the word and enjoying time together as a community. Di
 nner is shared after the meeting.
DTSTART:20240323T033000Z
DTEND:20240323T033000Z
GEO:00;0
LOCATION:Shekem - 461 Callington Road\, Salem SA 5255
ORGANIZER;CN=:contact@httn.net
SEQUENCE:1
SUMMARY:Shabbat (Salem)
TRANSP:OPAQUE
URL:https://httn.net/meeting-feast-dates/19-2019-09-04-05-26-44/2024-03-23-
 14-00
END:VEVENT
END:VCALENDAR
